BEGIN:VCALENDAR
VERSION:2.0
PRODID:-// - ECPv6.15.20//NONSGML v1.0//EN
CALSCALE:GREGORIAN
METHOD:PUBLISH
X-ORIGINAL-URL:https://mindfulmindset.co.uk
X-WR-CALDESC:Events for 
REFRESH-INTERVAL;VALUE=DURATION:PT1H
X-Robots-Tag:noindex
X-PUBLISHED-TTL:PT1H
BEGIN:VTIMEZONE
TZID:Europe/London
BEGIN:DAYLIGHT
TZOFFSETFROM:+0000
TZOFFSETTO:+0100
TZNAME:BST
DTSTART:20190331T010000
END:DAYLIGHT
BEGIN:STANDARD
TZOFFSETFROM:+0100
TZOFFSETTO:+0000
TZNAME:GMT
DTSTART:20191027T010000
END:STANDARD
BEGIN:DAYLIGHT
TZOFFSETFROM:+0000
TZOFFSETTO:+0100
TZNAME:BST
DTSTART:20200329T010000
END:DAYLIGHT
BEGIN:STANDARD
TZOFFSETFROM:+0100
TZOFFSETTO:+0000
TZNAME:GMT
DTSTART:20201025T010000
END:STANDARD
BEGIN:DAYLIGHT
TZOFFSETFROM:+0000
TZOFFSETTO:+0100
TZNAME:BST
DTSTART:20210328T010000
END:DAYLIGHT
BEGIN:STANDARD
TZOFFSETFROM:+0100
TZOFFSETTO:+0000
TZNAME:GMT
DTSTART:20211031T010000
END:STANDARD
END:VTIMEZONE
BEGIN:VEVENT
DTSTART;TZID=Europe/London:20201001T080000
DTEND;TZID=Europe/London:20201002T170000
DTSTAMP:20260423T124238
CREATED:20191208T221823Z
LAST-MODIFIED:20191208T221823Z
UID:133-1601539200-1601658000@mindfulmindset.co.uk
SUMMARY:Adult Mental Health First Aider training
DESCRIPTION:This course provides formal certified Adult Mental Health First Aider training\, as certified by MHFA England. \nFor more information please visit their website here.
URL:https://mindfulmindset.co.uk/event/adult-mental-health-first-aider-training-2/
LOCATION:Ride High Equestrian Centre\, Ride High Equestrian Centre\, Milton Keynes\, MK5 8EJ\, United Kingdom
CATEGORIES:Mental Health First Aid
ATTACH;FMTTYPE=image/png:https://mindfulmindset.co.uk/wp-content/uploads/2019/12/mhfa.png
END:VEVENT
BEGIN:VEVENT
DTSTART;TZID=Europe/London:20200702T093000
DTEND;TZID=Europe/London:20200703T170000
DTSTAMP:20260423T124238
CREATED:20200106T204220Z
LAST-MODIFIED:20200106T204442Z
UID:346-1593682200-1593795600@mindfulmindset.co.uk
SUMMARY:Annual Coaching Retreat
DESCRIPTION:The annual coaching retreat at Kits Coty Farm\, delivered in partnership with Passe-Partout Consulting – www.Passe-Partout.com. \nFor more information please email graeme.green@passe-partout.com
URL:https://mindfulmindset.co.uk/event/annual-coaching-retreat/
LOCATION:Kits Coty Farm\, Kits Coty Farm\, Aylesford\, England - South East\, ME20 7EW
CATEGORIES:coaching,embodiment,Experiential learning
ATTACH;FMTTYPE=image/jpeg:https://mindfulmindset.co.uk/wp-content/uploads/2019/12/cropped-focus-photo-of-4-wooden-pawn-figurine-209728-scaled.jpg
END:VEVENT
BEGIN:VEVENT
DTSTART;TZID=Europe/London:20200619T094500
DTEND;TZID=Europe/London:20200619T130000
DTSTAMP:20260423T124238
CREATED:20191210T163132Z
LAST-MODIFIED:20191210T163132Z
UID:164-1592559900-1592571600@mindfulmindset.co.uk
SUMMARY:The Power of Equine Facilitated Learning
DESCRIPTION:The power of equine facilitated learning is an introduction to the effective and impactful learning experience that can be achieved alongside horses. This event will be taking place in the heart of the West-Kent countryside near Paddock Wood. \nHorses reflect how we are. They are objective and impartial observers. They offer an honest and non-judgemental reflection of how we present ourselves. \nDuring this session we will:\n– Explore the value of becoming aware of the impact that we have on others\n– Develop insight into our own emotional and social intelligence\n– To work with a personal goal or identified need for individual change in a safe and trusting environment\n– To reflect upon how these experiences can be a template for change at work or in our personal lives \nWhat others have said about the power of equine facilitated learning:\n“Horses teach us so much about ourselves that others would never know” – “These sorts of realisations can take some leaders months to arrive at\, we managed it in about 90 minutes” – “An incredible teacher and coach” – “A clear\, encouraging and authentic process” – “Learning about oneself can be adventurous and creative”
URL:https://mindfulmindset.co.uk/event/the-power-of-equine-facilitated-learning-3/
LOCATION:Athena Herd\, High Lees Farmhouse\, Paddock Wood\, England - South East\, TN12 6PT
CATEGORIES:EFL
ATTACH;FMTTYPE=image/jpeg:https://mindfulmindset.co.uk/wp-content/uploads/2019/12/Athena-Herd-Banner-1-1920.jpg
ORGANIZER;CN="The Mindful Horse":MAILTO:info@athenaherd.org.uk
END:VEVENT
BEGIN:VEVENT
DTSTART;TZID=Europe/London:20200520T080000
DTEND;TZID=Europe/London:20200521T170000
DTSTAMP:20260423T124238
CREATED:20191208T221728Z
LAST-MODIFIED:20191208T221728Z
UID:131-1589961600-1590080400@mindfulmindset.co.uk
SUMMARY:Adult Mental Health First Aider training
DESCRIPTION:This course provides formal certified Adult Mental Health First Aider training\, as certified by MHFA England. \nFor more information please visit their website here.
URL:https://mindfulmindset.co.uk/event/adult-mental-health-first-aider-training/
LOCATION:Ride High Equestrian Centre\, Ride High Equestrian Centre\, Milton Keynes\, MK5 8EJ\, United Kingdom
CATEGORIES:Mental Health First Aid
ATTACH;FMTTYPE=image/png:https://mindfulmindset.co.uk/wp-content/uploads/2019/12/mhfa.png
END:VEVENT
BEGIN:VEVENT
DTSTART;TZID=Europe/London:20200513T080000
DTEND;TZID=Europe/London:20200514T170000
DTSTAMP:20260423T124238
CREATED:20200106T203600Z
LAST-MODIFIED:20200106T203600Z
UID:341-1589356800-1589475600@mindfulmindset.co.uk
SUMMARY:Adult Mental Health First Aider training
DESCRIPTION:This course provides formal certified Adult Mental Health First Aider training\, as certified by MHFA England. \nThis course is to be delivered at The Friars in Aylesford\, near Maidstone in Kent \nFor more information please visit their website here.
URL:https://mindfulmindset.co.uk/event/adult-mental-health-first-aider-training-4/
LOCATION:The Friars\, Aylesford\, ME20 7BX\, United Kingdom
CATEGORIES:Mental Health First Aid
ATTACH;FMTTYPE=image/png:https://mindfulmindset.co.uk/wp-content/uploads/2019/12/mhfa.png
END:VEVENT
BEGIN:VEVENT
DTSTART;TZID=Europe/London:20200501T093000
DTEND;TZID=Europe/London:20200501T163000
DTSTAMP:20260423T124238
CREATED:20191210T161716Z
LAST-MODIFIED:20200106T205134Z
UID:155-1588325400-1588350600@mindfulmindset.co.uk
SUMMARY:Mindfulness in Practice
DESCRIPTION:7 hours validated CPD \nMindfulness in Practice is a powerful day will explore the foundations of how we can work with Mindfulness to support ourselves in everyday life. Be that at work\, at home or at play. \nAlthough being held at Athena Herd\, this will not be working with horses. \nThe Mindfulness in Practice day will include:\n– A general introduction to mindfulness\n– Mindfulness as a foundation to emotional and social intelligence\n– Mindfulness as a support of stress awareness and management\n– Simple breath and body-based exercises that will help everyone’s wellbeing\n– Working with mindful compassion for ourselves and others \nVisit the Athena Herd events page to book your place.
URL:https://mindfulmindset.co.uk/event/mindfulness-in-practice-2/
LOCATION:Athena Herd\, High Lees Farmhouse\, Paddock Wood\, England - South East\, TN12 6PT
CATEGORIES:mindfulness
ATTACH;FMTTYPE=image/jpeg:https://mindfulmindset.co.uk/wp-content/uploads/2019/12/Mindfulness-in-Practice-Nov-2019-page-001.jpg
END:VEVENT
BEGIN:VEVENT
DTSTART;TZID=Europe/London:20200403T094500
DTEND;TZID=Europe/London:20200403T130000
DTSTAMP:20260423T124238
CREATED:20191210T162958Z
LAST-MODIFIED:20191210T162958Z
UID:162-1585907100-1585918800@mindfulmindset.co.uk
SUMMARY:The Power of Equine Facilitated Learning
DESCRIPTION:The power of equine facilitated learning is an introduction to the effective and impactful learning experience that can be achieved alongside horses. This event will be taking place in the heart of the West-Kent countryside near Paddock Wood. \nHorses reflect how we are. They are objective and impartial observers. They offer an honest and non-judgemental reflection of how we present ourselves. \nDuring this session we will:\n– Explore the value of becoming aware of the impact that we have on others\n– Develop insight into our own emotional and social intelligence\n– To work with a personal goal or identified need for individual change in a safe and trusting environment\n– To reflect upon how these experiences can be a template for change at work or in our personal lives \nWhat others have said about the power of equine facilitated learning:\n“Horses teach us so much about ourselves that others would never know” – “These sorts of realisations can take some leaders months to arrive at\, we managed it in about 90 minutes” – “An incredible teacher and coach” – “A clear\, encouraging and authentic process” – “Learning about oneself can be adventurous and creative”
URL:https://mindfulmindset.co.uk/event/the-power-of-equine-facilitated-learning-2/
LOCATION:Athena Herd\, High Lees Farmhouse\, Paddock Wood\, England - South East\, TN12 6PT
CATEGORIES:EFL
ATTACH;FMTTYPE=image/jpeg:https://mindfulmindset.co.uk/wp-content/uploads/2019/12/Athena-Herd-Banner-1-1920.jpg
ORGANIZER;CN="The Mindful Horse":MAILTO:info@athenaherd.org.uk
END:VEVENT
BEGIN:VEVENT
DTSTART;TZID=Europe/London:20200327T093000
DTEND;TZID=Europe/London:20200327T163000
DTSTAMP:20260423T124238
CREATED:20191210T160853Z
LAST-MODIFIED:20200106T205311Z
UID:150-1585301400-1585326600@mindfulmindset.co.uk
SUMMARY:Mindfulness in Practice
DESCRIPTION:7 hours validated CPD. \nMindfulness in Practice is a powerful day will explore the foundations of how we can work with Mindfulness to support ourselves in everyday life. Be that at work\, at home or at play. \nAlthough being held at Athena Herd\, this will not be working with horses. \nThe Mindfulness in Practice day will include:\n– A general introduction to mindfulness\n– Mindfulness as a foundation to emotional and social intelligence\n– Mindfulness as a support of stress awareness and management\n– Simple breath and body-based exercises that will help everyone’s wellbeing\n– Working with mindful compassion for ourselves and others \nVisit the Athena Herd events page to book your place.
URL:https://mindfulmindset.co.uk/event/mindfulness-in-practice/
LOCATION:Athena Herd\, High Lees Farmhouse\, Paddock Wood\, England - South East\, TN12 6PT
CATEGORIES:mindfulness
ATTACH;FMTTYPE=image/jpeg:https://mindfulmindset.co.uk/wp-content/uploads/2019/12/Mindfulness-in-Practice-Nov-2019-page-001.jpg
END:VEVENT
BEGIN:VEVENT
DTSTART;TZID=Europe/London:20200322T100000
DTEND;TZID=Europe/London:20200322T160000
DTSTAMP:20260423T124238
CREATED:20191210T164804Z
LAST-MODIFIED:20191210T164804Z
UID:166-1584871200-1584892800@mindfulmindset.co.uk
SUMMARY:Mindfulness and The Healing Drum
DESCRIPTION:Mindfulness and the Healing Drum is a powerful experiential introduction to the practice of Mindfulness. It is all brought to life through meditation and mindful interaction with horses. We will develop this practice further on the day by working with traditional drums— individually and as a group.  Which we then share with each other and the horses. \nThis workshop has been delivered for a number of years\, around the UK and internationally. It always creates a uniquely moving and insightful experience for those who attend. \nWhat others have said about Mindfulness and the Healing Drum.\n– It was amazing to see how much the horses loved and responded to the drumming – My horse placing his damaged lip against the drum – I am a total convert!   –  I felt it was actually an incredible day. For me personally\, revelatory and empowering. I am still feeling amazing and thank you.  –  Thank you for the experience\, it was mind-blowing  –  I have found the mindfulness course very helpful\, I suffer from a lot of stress and learning about the techniques available to ground myself again and reduce stress is really helpful.  –  The contact with the horses\, wonderful! Such a sense of calm\, peace and contentment  –  The healing with vibration and meditation has drastically reduced my anxiety around horses  –  A unique experience which builds upon the fundamentals of mindful practice to deliver both real life skills and genuine respectful benefit for our horses.
URL:https://mindfulmindset.co.uk/event/mindfulness-and-the-healing-drum/
LOCATION:Athena Herd\, High Lees Farmhouse\, Paddock Wood\, England - South East\, TN12 6PT
CATEGORIES:mindfulness
ATTACH;FMTTYPE=image/jpeg:https://mindfulmindset.co.uk/wp-content/uploads/2019/12/marzi-drum-scaled.jpg
END:VEVENT
BEGIN:VEVENT
DTSTART;TZID=Europe/London:20200214T094500
DTEND;TZID=Europe/London:20200214T130000
DTSTAMP:20260423T124238
CREATED:20191210T162851Z
LAST-MODIFIED:20191210T162851Z
UID:157-1581673500-1581685200@mindfulmindset.co.uk
SUMMARY:The Power of Equine Facilitated Learning
DESCRIPTION:The power of equine facilitated learning is an introduction to the effective and impactful learning experience that can be achieved alongside horses. This event will be taking place in the heart of the West-Kent countryside near Paddock Wood. \nHorses reflect how we are. They are objective and impartial observers. They offer an honest and non-judgemental reflection of how we present ourselves. \nDuring this session we will:\n– Explore the value of becoming aware of the impact that we have on others\n– Develop insight into our own emotional and social intelligence\n– To work with a personal goal or identified need for individual change in a safe and trusting environment\n– To reflect upon how these experiences can be a template for change at work or in our personal lives \nWhat others have said about the power of equine facilitated learning:\n“Horses teach us so much about ourselves that others would never know” – “These sorts of realisations can take some leaders months to arrive at\, we managed it in about 90 minutes” – “An incredible teacher and coach” – “A clear\, encouraging and authentic process” – “Learning about oneself can be adventurous and creative”
URL:https://mindfulmindset.co.uk/event/the-power-of-equine-facilitated-learning/
LOCATION:Athena Herd\, High Lees Farmhouse\, Paddock Wood\, England - South East\, TN12 6PT
CATEGORIES:EFL
ATTACH;FMTTYPE=image/jpeg:https://mindfulmindset.co.uk/wp-content/uploads/2019/12/Athena-Herd-Banner-1-1920.jpg
ORGANIZER;CN="The Mindful Horse":MAILTO:info@athenaherd.org.uk
END:VEVENT
BEGIN:VEVENT
DTSTART;TZID=Europe/London:20200212T080000
DTEND;TZID=Europe/London:20200213T170000
DTSTAMP:20260423T124238
CREATED:20191208T215117Z
LAST-MODIFIED:20191208T221552Z
UID:120-1581494400-1581613200@mindfulmindset.co.uk
SUMMARY:Adult Mental Health First Aider training
DESCRIPTION:This course provides formal certified Adult Mental Health First Aider training\, as certified by MHFA England. \nFor more information please visit their website here.
URL:https://mindfulmindset.co.uk/event/mental-health-first-aider-training/
LOCATION:Ride High Equestrian Centre\, Ride High Equestrian Centre\, Milton Keynes\, MK5 8EJ\, United Kingdom
CATEGORIES:Mental Health First Aid
ATTACH;FMTTYPE=image/png:https://mindfulmindset.co.uk/wp-content/uploads/2019/12/mhfa.png
END:VEVENT
BEGIN:VEVENT
DTSTART;TZID=Europe/London:20200206T080000
DTEND;TZID=Europe/London:20200207T170000
DTSTAMP:20260423T124238
CREATED:20191208T222621Z
LAST-MODIFIED:20191208T222621Z
UID:135-1580976000-1581094800@mindfulmindset.co.uk
SUMMARY:Adult Mental Health First Aider training
DESCRIPTION:This course provides formal certified Adult Mental Health First Aider training\, as certified by MHFA England. It is being delivered on behalf of Convergent Consulting. \nBooking is via Eventbrite.com\, click here. \n 
URL:https://mindfulmindset.co.uk/event/adult-mental-health-first-aider-training-3/
LOCATION:Double Tree by Hilton at The Tower\, EC3N 4AF\, United Kingdom
CATEGORIES:Mental Health First Aid
ATTACH;FMTTYPE=image/png:https://mindfulmindset.co.uk/wp-content/uploads/2019/12/mhfa.png
END:VEVENT
END:VCALENDAR